BEGIN:VCALENDAR
VERSION:2.0
PRODID:-//https://potigny.fr///NONSGML kigkonsult.se iCalcreator 2.10.15//
METHOD:PUBLISH
BEGIN:VEVENT
UID:20260423T145814UTC-4819RKFXRn@https://potigny.fr/
DTSTAMP:20260423T145814Z
DESCRIPTION: https://potigny.fr/component/rseventspro/evenement/103-c-c-lai
 zon.html?Itemid=101
DTSTART:20260501T083000Z
DTEND:20260501T170000Z
LOCATION:Chemin d'Aisy ()
SUMMARY:C.C. LAIZON
URL:https://potigny.fr/component/rseventspro/evenement/103-c-c-laizon.html?
 Itemid=101
END:VEVENT
END:VCALENDAR
