BEGIN:VCALENDAR
VERSION:2.0
PRODID:-//https://potigny.fr///NONSGML kigkonsult.se iCalcreator 2.10.15//
METHOD:PUBLISH
BEGIN:VEVENT
UID:20260423T145638UTC-3175iguu5C@https://potigny.fr/
DTSTAMP:20260423T145638Z
DESCRIPTION:L'Amicale des Anciens Combattants et la Commune de Potigny vous
  invitent à assister à la cérémonie du 26 avril 2026 organisée à l'occasio
 n de la Journée du Souvenir des Victimes de la Déportation qui aura lieu à
  Potigny le :\nDimanche 26 Avril&nbsp\; 2026\n&nbsp\;\nDéroulé des Cérémon
 ies\n11h00 : Place Nicolas Copernic - Momunent aux Morts\nAux Drapeaux\nDé
 pôt de gerbes\nMinute de silence\nSouvenir aux Morts\nMessage de Mme la se
 crétaire d'état chargée des anciens combattants\nHymnes nationaux\nRemerci
 ement aux porte-drapeaux\n&nbsp\;\n&nbsp\; https://potigny.fr/component/rs
 eventspro/evenement/81-ceremonies-du-26-avril-journee-du-souvenir-des-vict
 imes-de-la-deportation.html?Itemid=101
DTSTART:20260426T110000Z
DTEND:20260426T113000Z
LOCATION:Place Nicolas Copernic - Monument aux Morts ()
SUMMARY:Cérémonies du 26 Avril - Journée du Souvenir des victimes de la Dép
 ortation
URL:https://potigny.fr/component/rseventspro/evenement/81-ceremonies-du-26-
 avril-journee-du-souvenir-des-victimes-de-la-deportation.html?Itemid=101
END:VEVENT
END:VCALENDAR
